BEGIN:VCALENDAR
VERSION:2.0
PRODID:-//MALAYSIAN SPACE AGENCY (MYSA) - ECPv6.2.3//NONSGML v1.0//EN
CALSCALE:GREGORIAN
METHOD:PUBLISH
X-WR-CALNAME:MALAYSIAN SPACE AGENCY (MYSA)
X-ORIGINAL-URL:https://www.mysa.gov.my
X-WR-CALDESC:Events for MALAYSIAN SPACE AGENCY (MYSA)
REFRESH-INTERVAL;VALUE=DURATION:PT1H
X-Robots-Tag:noindex
X-PUBLISHED-TTL:PT1H
BEGIN:VTIMEZONE
TZID:Asia/Kuala_Lumpur
BEGIN:STANDARD
TZOFFSETFROM:+0800
TZOFFSETTO:+0800
TZNAME:+08
DTSTART:20230101T000000
END:STANDARD
END:VTIMEZONE
BEGIN:VEVENT
DTSTART;TZID=Asia/Kuala_Lumpur:20231013T090000
DTEND;TZID=Asia/Kuala_Lumpur:20231013T120000
DTSTAMP:20260421T213932
CREATED:20231010T021421Z
LAST-MODIFIED:20231010T041536Z
UID:25180-1697187600-1697198400@www.mysa.gov.my
SUMMARY:MDA's Space Technology Webinar
DESCRIPTION:
URL:https://www.mysa.gov.my/event/mdas-space-technology-webinar/
LOCATION:MYSA HQ
CATEGORIES:MYSA
ORGANIZER;CN="MYSA":MAILTO:mysa_hq@mysa.gov.my
END:VEVENT
END:VCALENDAR